BEGIN:VCALENDAR
VERSION:2.0
PRODID:-//Ensemble Diaphane - ECPv6.15.15//NONSGML v1.0//EN
CALSCALE:GREGORIAN
METHOD:PUBLISH
X-WR-CALNAME:Ensemble Diaphane
X-ORIGINAL-URL:https://ensemblediaphane.com
X-WR-CALDESC:Évènements pour Ensemble Diaphane
REFRESH-INTERVAL;VALUE=DURATION:PT1H
X-Robots-Tag:noindex
X-PUBLISHED-TTL:PT1H
BEGIN:VTIMEZONE
TZID:Europe/Zurich
BEGIN:DAYLIGHT
TZOFFSETFROM:+0100
TZOFFSETTO:+0200
TZNAME:CEST
DTSTART:20230326T010000
END:DAYLIGHT
BEGIN:STANDARD
TZOFFSETFROM:+0200
TZOFFSETTO:+0100
TZNAME:CET
DTSTART:20231029T010000
END:STANDARD
BEGIN:DAYLIGHT
TZOFFSETFROM:+0100
TZOFFSETTO:+0200
TZNAME:CEST
DTSTART:20240331T010000
END:DAYLIGHT
BEGIN:STANDARD
TZOFFSETFROM:+0200
TZOFFSETTO:+0100
TZNAME:CET
DTSTART:20241027T010000
END:STANDARD
BEGIN:DAYLIGHT
TZOFFSETFROM:+0100
TZOFFSETTO:+0200
TZNAME:CEST
DTSTART:20250330T010000
END:DAYLIGHT
BEGIN:STANDARD
TZOFFSETFROM:+0200
TZOFFSETTO:+0100
TZNAME:CET
DTSTART:20251026T010000
END:STANDARD
END:VTIMEZONE
BEGIN:VEVENT
DTSTART;VALUE=DATE:20241026
DTEND;VALUE=DATE:20241027
DTSTAMP:20260425T043720
CREATED:20240910T084041Z
LAST-MODIFIED:20240910T084041Z
UID:5328-1729900800-1729987199@ensemblediaphane.com
SUMMARY:Birdsongs - Rencontres arrangées - Horaire à préciser
DESCRIPTION:Birdsongs\n\nEn mai 2023 les Rencontres arrangées ont présenté une nouvelle création dans le cadre du Jardin Botanique de Neuchâtel. Jérôme Jeanrenaud et Nicolas Gurtner ont invité à cette occasion les chanteuses de l’Ensemble Diaphane établi à Lausanne ainsi que le percussionniste neuchâtelois Lucien Matthey. Le concert a pris une forme itinérante et a déambulé dans les différents espaces du Jardin Botanique. \nLe duo de compositeurs s’est laissé influencer par des compositeurs·trices d’avant-garde tels que Bryce Dessner ou Caroline Shaw\, explorant les possibilités vocales offertes par différentes cultures\, tout en gardant l’essence jazz qui leur est propre. Une partie des textes est tirée d’un recueil d’Haikus de Jack Kerouac. L’autre partie des textes à été écrite par les compositeurs\, utilisant des phrases courtes et évocatrices qui se mettent au service de la musique. Ils proposent d’explorer d’une façon large notre rapport aux oiseaux et à leurs chants. \nEn 2024\, Birdsongs s’offre une tournée des jardins botaniques de Suisse (été) puis une série de concerts en salles (automne/hiver) et en profite pour remanier et étoffer son répertoire avec de nouvelles compositions originales. \nLes vidéos de la création sont à découvrir ici \n  \n\n\nMusiciens\nClaudine Charnay Mezzo-Soprano\nJennifer Pellagaud Soprano\nMarion Pagin Soprano\nZoéline Simone Mezzo-soprano\nLéonie Cachelin Mezzo-Soprano\nLucien Matthey Percussions\nJérôme Jeanrenaud Claviers\, Composition\nNicolas Gurtner Saxophones\, Composition
URL:https://ensemblediaphane.com/event/birdsongs-rencontres-arrangees-horaire-a-preciser-2/
LOCATION:Le Balkkon\, Rue du Neubourg 20\, Neuchâtel\, 2000 Neuchâtel
END:VEVENT
END:VCALENDAR