BEGIN:VCALENDAR
VERSION:2.0
PRODID:-//Ensemble Diaphane - ECPv6.15.15//NONSGML v1.0//EN
CALSCALE:GREGORIAN
METHOD:PUBLISH
X-WR-CALNAME:Ensemble Diaphane
X-ORIGINAL-URL:https://ensemblediaphane.com
X-WR-CALDESC:Évènements pour Ensemble Diaphane
REFRESH-INTERVAL;VALUE=DURATION:PT1H
X-Robots-Tag:noindex
X-PUBLISHED-TTL:PT1H
BEGIN:VTIMEZONE
TZID:Europe/Zurich
BEGIN:DAYLIGHT
TZOFFSETFROM:+0100
TZOFFSETTO:+0200
TZNAME:CEST
DTSTART:20230326T010000
END:DAYLIGHT
BEGIN:STANDARD
TZOFFSETFROM:+0200
TZOFFSETTO:+0100
TZNAME:CET
DTSTART:20231029T010000
END:STANDARD
BEGIN:DAYLIGHT
TZOFFSETFROM:+0100
TZOFFSETTO:+0200
TZNAME:CEST
DTSTART:20240331T010000
END:DAYLIGHT
BEGIN:STANDARD
TZOFFSETFROM:+0200
TZOFFSETTO:+0100
TZNAME:CET
DTSTART:20241027T010000
END:STANDARD
BEGIN:DAYLIGHT
TZOFFSETFROM:+0100
TZOFFSETTO:+0200
TZNAME:CEST
DTSTART:20250330T010000
END:DAYLIGHT
BEGIN:STANDARD
TZOFFSETFROM:+0200
TZOFFSETTO:+0100
TZNAME:CET
DTSTART:20251026T010000
END:STANDARD
END:VTIMEZONE
BEGIN:VEVENT
DTSTART;TZID=Europe/Zurich:20240707T183000
DTEND;TZID=Europe/Zurich:20240707T193000
DTSTAMP:20260424T223835
CREATED:20240425T113711Z
LAST-MODIFIED:20240528T194327Z
UID:5194-1720377000-1720380600@ensemblediaphane.com
SUMMARY:I want to live - concerts d'été de Saint-Germain
DESCRIPTION:I WANT TO LIVE\nEn mêlant textes poétiques profanes et sacrés\, le jeune Ensemble Diaphane propose un programme de chants a cappella modernes et contemporains\, sur le thème ‘I want to live’\, qui s’ouvre à la méditation sur le sens de l’existence à travers les notions de vie et de mort. \nOeuvres de Poulenc\, Lang\, Rautavaara\, Kocsar\, Charrière…
URL:https://ensemblediaphane.com/event/i-want-to-live-concerts-dete-de-saint-germain/
LOCATION:Eglise Saint-Germain\, Rue des Granges (11)\, Genève\, 1204\, Suisse
END:VEVENT
END:VCALENDAR