BEGIN:VCALENDAR
VERSION:2.0
PRODID:-//Ensemble Diaphane - ECPv6.15.15//NONSGML v1.0//EN
CALSCALE:GREGORIAN
METHOD:PUBLISH
X-WR-CALNAME:Ensemble Diaphane
X-ORIGINAL-URL:https://ensemblediaphane.com
X-WR-CALDESC:Évènements pour Ensemble Diaphane
REFRESH-INTERVAL;VALUE=DURATION:PT1H
X-Robots-Tag:noindex
X-PUBLISHED-TTL:PT1H
BEGIN:VTIMEZONE
TZID:Europe/Zurich
BEGIN:DAYLIGHT
TZOFFSETFROM:+0100
TZOFFSETTO:+0200
TZNAME:CEST
DTSTART:20230326T010000
END:DAYLIGHT
BEGIN:STANDARD
TZOFFSETFROM:+0200
TZOFFSETTO:+0100
TZNAME:CET
DTSTART:20231029T010000
END:STANDARD
BEGIN:DAYLIGHT
TZOFFSETFROM:+0100
TZOFFSETTO:+0200
TZNAME:CEST
DTSTART:20240331T010000
END:DAYLIGHT
BEGIN:STANDARD
TZOFFSETFROM:+0200
TZOFFSETTO:+0100
TZNAME:CET
DTSTART:20241027T010000
END:STANDARD
BEGIN:DAYLIGHT
TZOFFSETFROM:+0100
TZOFFSETTO:+0200
TZNAME:CEST
DTSTART:20250330T010000
END:DAYLIGHT
BEGIN:STANDARD
TZOFFSETFROM:+0200
TZOFFSETTO:+0100
TZNAME:CET
DTSTART:20251026T010000
END:STANDARD
END:VTIMEZONE
BEGIN:VEVENT
DTSTART;TZID=Europe/Zurich:20240526T100000
DTEND;TZID=Europe/Zurich:20240526T110000
DTSTAMP:20260424T173102
CREATED:20240513T155026Z
LAST-MODIFIED:20240513T155026Z
UID:5270-1716717600-1716721200@ensemblediaphane.com
SUMMARY:Festival Vizavis
DESCRIPTION:L’Ensemble Diaphane a l’honneur d’être invité dans le cadre du Festival Vizavis pour chanter des extraits de son programme  »Hodie Beata » !\nIl interviendra lors du culte de dédicace de l’Eglise St-Etienne\, rénovée à l’occasion de ses 60 ans. \nPlus d’informations :\nhttps://www.festivalvizavis.ch/ensemble-diaphane
URL:https://ensemblediaphane.com/event/festival-vizavis/
LOCATION:Centre paroissial de Saint-Etienne\, Chemin du Vieux-Collège 3\, Prilly\, 1008
END:VEVENT
END:VCALENDAR