BEGIN:VCALENDAR
VERSION:2.0
PRODID:-//Ensemble Diaphane - ECPv6.15.15//NONSGML v1.0//EN
CALSCALE:GREGORIAN
METHOD:PUBLISH
X-WR-CALNAME:Ensemble Diaphane
X-ORIGINAL-URL:https://ensemblediaphane.com
X-WR-CALDESC:Évènements pour Ensemble Diaphane
REFRESH-INTERVAL;VALUE=DURATION:PT1H
X-Robots-Tag:noindex
X-PUBLISHED-TTL:PT1H
BEGIN:VTIMEZONE
TZID:Europe/Zurich
BEGIN:DAYLIGHT
TZOFFSETFROM:+0100
TZOFFSETTO:+0200
TZNAME:CEST
DTSTART:20230326T010000
END:DAYLIGHT
BEGIN:STANDARD
TZOFFSETFROM:+0200
TZOFFSETTO:+0100
TZNAME:CET
DTSTART:20231029T010000
END:STANDARD
BEGIN:DAYLIGHT
TZOFFSETFROM:+0100
TZOFFSETTO:+0200
TZNAME:CEST
DTSTART:20240331T010000
END:DAYLIGHT
BEGIN:STANDARD
TZOFFSETFROM:+0200
TZOFFSETTO:+0100
TZNAME:CET
DTSTART:20241027T010000
END:STANDARD
BEGIN:DAYLIGHT
TZOFFSETFROM:+0100
TZOFFSETTO:+0200
TZNAME:CEST
DTSTART:20250330T010000
END:DAYLIGHT
BEGIN:STANDARD
TZOFFSETFROM:+0200
TZOFFSETTO:+0100
TZNAME:CET
DTSTART:20251026T010000
END:STANDARD
END:VTIMEZONE
BEGIN:VEVENT
DTSTART;TZID=Europe/Zurich:20240516T200000
DTEND;TZID=Europe/Zurich:20240516T210000
DTSTAMP:20260423T163419
CREATED:20240114T130924Z
LAST-MODIFIED:20240114T131657Z
UID:4995-1715889600-1715893200@ensemblediaphane.com
SUMMARY:Collection printemps 2024 - Genève
DESCRIPTION:L’Ensemble Diaphane a le plaisir de présenter son premier concert de saison Collection printemps 2024\, qui se veut être l’initiateur d’une série de concerts sur le long terme établissant des rencontres annuelles avec le public ! \nCe programme sera une rétrospective comprenant des extraits de tous les concerts de l’ensemble diffusés au cours des dernières années. Pour le public fidèle\, cela représente une occasion de redécouvrir les morceaux qui ont contribué à la popularité des différents programmes de l’Ensemble Diaphane. Quant à ceux qui ne le connaissent pas encore\, c’est une belle opportunité de découvrir toute la palette musicale que l’ensemble défend. \nPièces extraites de Feminis-k\, Hodie Beata XXI\, I want to live et Jeunesses entrelacées. \nOeuvres de F. Poulenc\, M-M. Duruflé-Chevallier\, D. Lang\, B. Hayoz\, D. McIntyre… \n  \n  \n 
URL:https://ensemblediaphane.com/event/collection-printemps-2024/
LOCATION:Temple de Carouge\, Place du Temple\, Carouge\, 1227\, Suisse
END:VEVENT
END:VCALENDAR